BEGIN:VCALENDAR
VERSION:2.0
PRODID:-//85.13.147.153//NONSGML kigkonsult.se iCalcreator 2.20//
CALSCALE:GREGORIAN
METHOD:PUBLISH
X-WR-TIMEZONE:Europe/Berlin
BEGIN:VEVENT
UID:event951@ortsvereine-garitz.de
DTSTAMP:20260422T124412Z
CATEGORIES:Gesangverein 1883
DESCRIPTION:Standkonzert InTakt mit OBA-Chor\nKategorie: Gesangverein 1883
 \nICS-Link: https://ortsvereine-garitz.de/index.php?option=com_jem&view=ev
 ent&id=951:standkonzert-intakt-mit-oba-chor\n
DTSTART;VALUE=DATE:20260509
DTEND;VALUE=DATE:20260510
LOCATION:Bad Kissingen - Fußgängerzone
SUMMARY:Standkonzert InTakt mit OBA-Chor
URL:https://ortsvereine-garitz.de/index.php?option=com_jem&view=event&id=95
 1:standkonzert-intakt-mit-oba-chor
END:VEVENT
END:VCALENDAR