BEGIN:VCALENDAR
VERSION:2.0
PRODID:-//85.13.147.153//NONSGML kigkonsult.se iCalcreator 2.20//
CALSCALE:GREGORIAN
METHOD:PUBLISH
X-WR-TIMEZONE:Europe/Berlin
BEGIN:VEVENT
UID:event953@ortsvereine-garitz.de
DTSTAMP:20260422T125218Z
CATEGORIES:Gesangverein 1883
DESCRIPTION:InTakt (Kirche Frauenroth)\nKategorie: Gesangverein 1883\nICS-L
 ink: https://ortsvereine-garitz.de/index.php?option=com_jem&view=event&id=
 953:intakt-kirche-frauenroth\n
DTSTART;VALUE=DATE:20260517
DTEND;VALUE=DATE:20260518
SUMMARY:InTakt (Kirche Frauenroth)
URL:https://ortsvereine-garitz.de/index.php?option=com_jem&view=event&id=95
 3:intakt-kirche-frauenroth
END:VEVENT
END:VCALENDAR